BEGIN:VCALENDAR
VERSION:2.0
PRODID:-//Shelby County 911 - ECPv6.15.20//NONSGML v1.0//EN
CALSCALE:GREGORIAN
METHOD:PUBLISH
X-WR-CALNAME:Shelby County 911
X-ORIGINAL-URL:https://shelbycounty911.org
X-WR-CALDESC:Events for Shelby County 911
REFRESH-INTERVAL;VALUE=DURATION:PT1H
X-Robots-Tag:noindex
X-PUBLISHED-TTL:PT1H
BEGIN:VTIMEZONE
TZID:America/Chicago
BEGIN:DAYLIGHT
TZOFFSETFROM:-0600
TZOFFSETTO:-0500
TZNAME:CDT
DTSTART:20180311T080000
END:DAYLIGHT
BEGIN:STANDARD
TZOFFSETFROM:-0500
TZOFFSETTO:-0600
TZNAME:CST
DTSTART:20181104T070000
END:STANDARD
BEGIN:DAYLIGHT
TZOFFSETFROM:-0600
TZOFFSETTO:-0500
TZNAME:CDT
DTSTART:20190310T080000
END:DAYLIGHT
BEGIN:STANDARD
TZOFFSETFROM:-0500
TZOFFSETTO:-0600
TZNAME:CST
DTSTART:20191103T070000
END:STANDARD
BEGIN:DAYLIGHT
TZOFFSETFROM:-0600
TZOFFSETTO:-0500
TZNAME:CDT
DTSTART:20200308T080000
END:DAYLIGHT
BEGIN:STANDARD
TZOFFSETFROM:-0500
TZOFFSETTO:-0600
TZNAME:CST
DTSTART:20201101T070000
END:STANDARD
END:VTIMEZONE
BEGIN:VEVENT
DTSTART;TZID=America/Chicago:20190329T033000
DTEND;TZID=America/Chicago:20190329T113000
DTSTAMP:20260420T121922
CREATED:20190107T231927Z
LAST-MODIFIED:20190719T010214Z
UID:1605-1553830200-1553859000@shelbycounty911.org
SUMMARY:**CLASS IS FULL**  Active Shooter Response (Powerphone)
DESCRIPTION:From college campuses to workplace violence and mall shootings\, active shooters are a unique challenge for law enforcement agencies – and not just for the officers who respond to the scene. In this course\, students learn about the mentality and motivations of the active shooter and build a solid knowledge base for handling these incidents.
URL:https://shelbycounty911.org/event/active-shooter-response-powerphone-george-deuchar/
LOCATION:Due to the COVID-19 virus the meeting will be held by electronic means per TCA 8-44-108\, TN
CATEGORIES:Training
ORGANIZER;CN="Sue Robinson":MAILTO:srobbins@shelbycounty911.org
END:VEVENT
END:VCALENDAR