BEGIN:VCALENDAR
VERSION:2.0
PRODID:-//Shelby County 911 - ECPv6.15.20//NONSGML v1.0//EN
CALSCALE:GREGORIAN
METHOD:PUBLISH
X-ORIGINAL-URL:https://shelbycounty911.org
X-WR-CALDESC:Events for Shelby County 911
REFRESH-INTERVAL;VALUE=DURATION:PT1H
X-Robots-Tag:noindex
X-PUBLISHED-TTL:PT1H
BEGIN:VTIMEZONE
TZID:America/Chicago
BEGIN:DAYLIGHT
TZOFFSETFROM:-0600
TZOFFSETTO:-0500
TZNAME:CDT
DTSTART:20170312T080000
END:DAYLIGHT
BEGIN:STANDARD
TZOFFSETFROM:-0500
TZOFFSETTO:-0600
TZNAME:CST
DTSTART:20171105T070000
END:STANDARD
BEGIN:DAYLIGHT
TZOFFSETFROM:-0600
TZOFFSETTO:-0500
TZNAME:CDT
DTSTART:20180311T080000
END:DAYLIGHT
BEGIN:STANDARD
TZOFFSETFROM:-0500
TZOFFSETTO:-0600
TZNAME:CST
DTSTART:20181104T070000
END:STANDARD
BEGIN:DAYLIGHT
TZOFFSETFROM:-0600
TZOFFSETTO:-0500
TZNAME:CDT
DTSTART:20190310T080000
END:DAYLIGHT
BEGIN:STANDARD
TZOFFSETFROM:-0500
TZOFFSETTO:-0600
TZNAME:CST
DTSTART:20191103T070000
END:STANDARD
END:VTIMEZONE
BEGIN:VEVENT
DTSTART;TZID=America/Chicago:20181018T033000
DTEND;TZID=America/Chicago:20181018T120000
DTSTAMP:20260420T210652
CREATED:20180501T205555Z
LAST-MODIFIED:20180921T201654Z
UID:1557-1539833400-1539864000@shelbycounty911.org
SUMMARY:Time Management (Dr. Joe Serio)
DESCRIPTION:Some people seem to have everything they want in life while others yearn for more. What do successful people know and practice that others don’t? \nThis course is about much more than just traditional time management and organizational skills—it shows you how time\, organization\, health\, money\, weight\, and other life and career concerns are connected. Since any one of these has an effect on everything else\, you need the help of a successful system that includes goal-setting\, scheduling\, priorities\, relationships\, and other elements. \nDr. Joe will help you create that system and teach you how to eliminate procrasti-nation\, uncover the myth of multitasking\, set goals\, stay on course\, respond when your progress stalls\, understand the role of blame and excuses\, and more. He also explains the surprisingly critical connection between organization at home and performance at work. You will complete the program with a highly specific plan in place to tackle your most important goal. \nWho knew that time management had such an incredible impact on your life? Get the skills you need to have less stress\, greater flexibility\, better relationships\, more confidence\, time for your family and friends\, and the financial stability you’ve been looking for. \nCourse sections: \n\nManaging your time and self to achieve all your goals\nUnderstanding multitasking and mastery for the greatest results\nManaging fear and procrastination so you increase productivity\nEffectively setting and achieving new goals\nTurbocharging your time for greater efficiency
URL:https://shelbycounty911.org/event/time-management-dr-joe-serio/
LOCATION:Due to the COVID-19 virus the meeting will be held by electronic means per TCA 8-44-108\, TN
CATEGORIES:Training
ORGANIZER;CN="Sue Robinson":MAILTO:srobbins@shelbycounty911.org
END:VEVENT
BEGIN:VEVENT
DTSTART;TZID=America/Chicago:20181030T033000
DTEND;TZID=America/Chicago:20181030T120000
DTSTAMP:20260420T210652
CREATED:20180509T210510Z
LAST-MODIFIED:20180509T210650Z
UID:1559-1540870200-1540900800@shelbycounty911.org
SUMMARY:9-1-1: Hacked\, Attacked And Where's That
DESCRIPTION:NEW \nThis class has been created to bring telecommunicators up to speed on the technological terrorism and the “Internet of Things” that are plaguing our 9-1-1 centers across the nation. We will discuss getting back to the basics of identifying ANI/ALI & mapping knowledge and the importance of understanding all of the information displayed. We will also review and hear examples of swatting\, hoax calls\, and denial of service\, ransomware as well as other situations that have temporarily paralyzed 911 centers. In addition we will identify other technological speed bumps that are stumping our call-takers such as VOIP calls\, APPS calling 911\, WIFI calling\, cellular boosters and calls being routed to other countries. These types of calls do not always arrive in the PSAP via traditional means and it is important for telecommunicators to be ready for and understand the process for when they do.
URL:https://shelbycounty911.org/event/9-1-1-hacked-attacked-and-wheres-that/
LOCATION:Due to the COVID-19 virus the meeting will be held by electronic means per TCA 8-44-108\, TN
CATEGORIES:Training
ORGANIZER;CN="Sue Robinson":MAILTO:srobbins@shelbycounty911.org
END:VEVENT
END:VCALENDAR