BEGIN:VCALENDAR
VERSION:2.0
PRODID:-//Shelby County 911 - ECPv6.15.20//NONSGML v1.0//EN
CALSCALE:GREGORIAN
METHOD:PUBLISH
X-ORIGINAL-URL:https://shelbycounty911.org
X-WR-CALDESC:Events for Shelby County 911
REFRESH-INTERVAL;VALUE=DURATION:PT1H
X-Robots-Tag:noindex
X-PUBLISHED-TTL:PT1H
BEGIN:VTIMEZONE
TZID:America/Chicago
BEGIN:DAYLIGHT
TZOFFSETFROM:-0600
TZOFFSETTO:-0500
TZNAME:CDT
DTSTART:20170312T080000
END:DAYLIGHT
BEGIN:STANDARD
TZOFFSETFROM:-0500
TZOFFSETTO:-0600
TZNAME:CST
DTSTART:20171105T070000
END:STANDARD
BEGIN:DAYLIGHT
TZOFFSETFROM:-0600
TZOFFSETTO:-0500
TZNAME:CDT
DTSTART:20180311T080000
END:DAYLIGHT
BEGIN:STANDARD
TZOFFSETFROM:-0500
TZOFFSETTO:-0600
TZNAME:CST
DTSTART:20181104T070000
END:STANDARD
BEGIN:DAYLIGHT
TZOFFSETFROM:-0600
TZOFFSETTO:-0500
TZNAME:CDT
DTSTART:20190310T080000
END:DAYLIGHT
BEGIN:STANDARD
TZOFFSETFROM:-0500
TZOFFSETTO:-0600
TZNAME:CST
DTSTART:20191103T070000
END:STANDARD
END:VTIMEZONE
BEGIN:VEVENT
DTSTART;TZID=America/Chicago:20180927T033000
DTEND;TZID=America/Chicago:20180927T120000
DTSTAMP:20260420T233811
CREATED:20180501T205335Z
LAST-MODIFIED:20180921T201456Z
UID:1555-1538019000-1538049600@shelbycounty911.org
SUMMARY:Leadership and your Legacy (Dr. Joe Serio)
DESCRIPTION:There’s a well-known Chinese proverb that says\, “Give a man a fish\, and you feed him for a day. Teach a man to fish\, and you feed him for a lifetime.” This course is about becoming a great leader and creating a positive legacy—one that you’ll live on a daily basis. Along with that comes a renewed feeling of enthusiasm for your life. \nYou’ll start your leadership training by focusing on how you want to be remembered\, personally and professionally; through that\, you will learn what actions you’ll need to take today to be the kind of leader who will leave that kind of legacy in the future. Dr. Joe will teach you how to be very conscious of and proactive with your legacy. You’ll also learn a style of leadership practiced by the most effective leaders. \nDr. Joe will also show you the power of guiding\, leading\, and mentoring those around you to create a legacy that will last for generations. He’ll also cover self-awareness\, self-management\, fear\, cornerstone leadership characteristics and habits\, effective communication\, and more. \nAt the end of this course\, you’ll be prepared to mold your legacy—in your career\, with your family\, and in your community. You can experience the joy that comes with truly making a difference in the lives of others. \nCourse sections: \n\nUnderstanding what your people really want\n4 blueprints for leadership\n10 leadership competencies\nServant leadership and transformational leadership\nLiving your legacy today
URL:https://shelbycounty911.org/event/leadership-and-your-legacy-dr-joe-serio/
LOCATION:Due to the COVID-19 virus the meeting will be held by electronic means per TCA 8-44-108\, TN
CATEGORIES:Training
ORGANIZER;CN="Sue Robinson":MAILTO:srobbins@shelbycounty911.org
END:VEVENT
END:VCALENDAR