BEGIN:VCALENDAR
VERSION:2.0
PRODID:-//Shelby County 911 - ECPv6.15.20//NONSGML v1.0//EN
CALSCALE:GREGORIAN
METHOD:PUBLISH
X-ORIGINAL-URL:https://shelbycounty911.org
X-WR-CALDESC:Events for Shelby County 911
REFRESH-INTERVAL;VALUE=DURATION:PT1H
X-Robots-Tag:noindex
X-PUBLISHED-TTL:PT1H
BEGIN:VTIMEZONE
TZID:America/Chicago
BEGIN:DAYLIGHT
TZOFFSETFROM:-0600
TZOFFSETTO:-0500
TZNAME:CDT
DTSTART:20170312T080000
END:DAYLIGHT
BEGIN:STANDARD
TZOFFSETFROM:-0500
TZOFFSETTO:-0600
TZNAME:CST
DTSTART:20171105T070000
END:STANDARD
BEGIN:DAYLIGHT
TZOFFSETFROM:-0600
TZOFFSETTO:-0500
TZNAME:CDT
DTSTART:20180311T080000
END:DAYLIGHT
BEGIN:STANDARD
TZOFFSETFROM:-0500
TZOFFSETTO:-0600
TZNAME:CST
DTSTART:20181104T070000
END:STANDARD
BEGIN:DAYLIGHT
TZOFFSETFROM:-0600
TZOFFSETTO:-0500
TZNAME:CDT
DTSTART:20190310T080000
END:DAYLIGHT
BEGIN:STANDARD
TZOFFSETFROM:-0500
TZOFFSETTO:-0600
TZNAME:CST
DTSTART:20191103T070000
END:STANDARD
END:VTIMEZONE
BEGIN:VEVENT
DTSTART;TZID=America/Chicago:20180820T033000
DTEND;TZID=America/Chicago:20180820T120000
DTSTAMP:20260421T014944
CREATED:20180209T002426Z
LAST-MODIFIED:20180209T002453Z
UID:1521-1534735800-1534766400@shelbycounty911.org
SUMMARY:Ripped from the Headlines
DESCRIPTION:In the past two years\, we have seen more civil unrest than occurred in the previous 40 years. With this backdrop\, police officers have been the target of assassinations. This class will address your role in community-oriented policing\, cultural diversity\, de-escalation techniques and responder targeting. There is no other class on the market that addresses these issues in one comprehensive course.
URL:https://shelbycounty911.org/event/ripped-from-the-headlines/
LOCATION:Due to the COVID-19 virus the meeting will be held by electronic means per TCA 8-44-108\, TN
CATEGORIES:Training
ORGANIZER;CN="Sue Robinson":MAILTO:srobbins@shelbycounty911.org
END:VEVENT
END:VCALENDAR