BEGIN:VCALENDAR
VERSION:2.0
PRODID:-//Shelby County 911 - ECPv6.15.20//NONSGML v1.0//EN
CALSCALE:GREGORIAN
METHOD:PUBLISH
X-WR-CALNAME:Shelby County 911
X-ORIGINAL-URL:https://shelbycounty911.org
X-WR-CALDESC:Events for Shelby County 911
REFRESH-INTERVAL;VALUE=DURATION:PT1H
X-Robots-Tag:noindex
X-PUBLISHED-TTL:PT1H
BEGIN:VTIMEZONE
TZID:America/Chicago
BEGIN:DAYLIGHT
TZOFFSETFROM:-0600
TZOFFSETTO:-0500
TZNAME:CDT
DTSTART:20170312T080000
END:DAYLIGHT
BEGIN:STANDARD
TZOFFSETFROM:-0500
TZOFFSETTO:-0600
TZNAME:CST
DTSTART:20171105T070000
END:STANDARD
BEGIN:DAYLIGHT
TZOFFSETFROM:-0600
TZOFFSETTO:-0500
TZNAME:CDT
DTSTART:20180311T080000
END:DAYLIGHT
BEGIN:STANDARD
TZOFFSETFROM:-0500
TZOFFSETTO:-0600
TZNAME:CST
DTSTART:20181104T070000
END:STANDARD
BEGIN:DAYLIGHT
TZOFFSETFROM:-0600
TZOFFSETTO:-0500
TZNAME:CDT
DTSTART:20190310T080000
END:DAYLIGHT
BEGIN:STANDARD
TZOFFSETFROM:-0500
TZOFFSETTO:-0600
TZNAME:CST
DTSTART:20191103T070000
END:STANDARD
END:VTIMEZONE
BEGIN:VEVENT
DTSTART;TZID=America/Chicago:20180522T030000
DTEND;TZID=America/Chicago:20180522T120000
DTSTAMP:20260421T080358
CREATED:20170803T220056Z
LAST-MODIFIED:20170803T220056Z
UID:1500-1526958000-1526990400@shelbycounty911.org
SUMMARY:Denise Amber Lee: A Victims Plea
DESCRIPTION:“A Victim’s Plea; Meeting Expectations” (8-Hour) \nIn this full-day course\, students are exposed to a riveting\, emotional roller coaster of critical 911 failures that occurred the night Denise was kidnapped\, raped\, and murdered.  Nathan Lee\, founder and President of the Denise Amber Lee Foundation\, and a 911 professional tie together the elements of the Denise Amber Lee tragedy. A positive and uplifting presentation\, students will learn of the obvious failures that day to the more in-depth concepts such as leadership\, hiring\, training and encouraging employees in a communications center.
URL:https://shelbycounty911.org/event/denise-amber-lee-a-victims-plea/
LOCATION:Due to the COVID-19 virus the meeting will be held by electronic means per TCA 8-44-108\, TN
CATEGORIES:Training
ORGANIZER;CN="Sue Robinson":MAILTO:srobbins@shelbycounty911.org
END:VEVENT
BEGIN:VEVENT
DTSTART;TZID=America/Chicago:20180523T030000
DTEND;TZID=America/Chicago:20180523T120000
DTSTAMP:20260421T080358
CREATED:20170803T220235Z
LAST-MODIFIED:20170803T220543Z
UID:1502-1527044400-1527076800@shelbycounty911.org
SUMMARY:Denise Amber Lee: A Victims Plea
DESCRIPTION:“A Victim’s Plea; Meeting Expectations” (8-Hour) \nIn this full-day course\, students are exposed to a riveting\, emotional roller coaster of critical 911 failures that occurred the night Denise was kidnapped\, raped\, and murdered.  Nathan Lee\, founder and President of the Denise Amber Lee Foundation\, and a 911 professional tie together the elements of the Denise Amber Lee tragedy. A positive and uplifting presentation\, students will learn of the obvious failures that day to the more in-depth concepts such as leadership\, hiring\, training and encouraging employees in a communications center.
URL:https://shelbycounty911.org/event/denise-amber-lee-a-victims-plea-2/
LOCATION:Due to the COVID-19 virus the meeting will be held by electronic means per TCA 8-44-108\, TN
CATEGORIES:Training
ORGANIZER;CN="Sue Robinson":MAILTO:srobbins@shelbycounty911.org
END:VEVENT
END:VCALENDAR