BEGIN:VCALENDAR
VERSION:2.0
PRODID:-//Shelby County 911 - ECPv6.15.20//NONSGML v1.0//EN
CALSCALE:GREGORIAN
METHOD:PUBLISH
X-WR-CALNAME:Shelby County 911
X-ORIGINAL-URL:https://shelbycounty911.org
X-WR-CALDESC:Events for Shelby County 911
REFRESH-INTERVAL;VALUE=DURATION:PT1H
X-Robots-Tag:noindex
X-PUBLISHED-TTL:PT1H
BEGIN:VTIMEZONE
TZID:America/Chicago
BEGIN:DAYLIGHT
TZOFFSETFROM:-0600
TZOFFSETTO:-0500
TZNAME:CDT
DTSTART:20160313T080000
END:DAYLIGHT
BEGIN:STANDARD
TZOFFSETFROM:-0500
TZOFFSETTO:-0600
TZNAME:CST
DTSTART:20161106T070000
END:STANDARD
BEGIN:DAYLIGHT
TZOFFSETFROM:-0600
TZOFFSETTO:-0500
TZNAME:CDT
DTSTART:20170312T080000
END:DAYLIGHT
BEGIN:STANDARD
TZOFFSETFROM:-0500
TZOFFSETTO:-0600
TZNAME:CST
DTSTART:20171105T070000
END:STANDARD
BEGIN:DAYLIGHT
TZOFFSETFROM:-0600
TZOFFSETTO:-0500
TZNAME:CDT
DTSTART:20180311T080000
END:DAYLIGHT
BEGIN:STANDARD
TZOFFSETFROM:-0500
TZOFFSETTO:-0600
TZNAME:CST
DTSTART:20181104T070000
END:STANDARD
END:VTIMEZONE
BEGIN:VEVENT
DTSTART;TZID=America/Chicago:20170504T033000
DTEND;TZID=America/Chicago:20170504T113000
DTSTAMP:20260422T075959
CREATED:20170120T030046Z
LAST-MODIFIED:20170120T035945Z
UID:1447-1493868600-1493897400@shelbycounty911.org
SUMMARY:Active Shooter (PowerPhone)
DESCRIPTION:Active Shooter Incidents for Public Safety Communications  \nActive shooter incidents and the response to them pose several unique concerns for all facets of public safety including public safety communications. Many issues make responding to an active shooter incident more difficult than other armed subject calls or violent in-progress incidents. These types of incidents historically have garnered extensive media coverage and public scrutiny and have become a pertinent threat to public safety. As with any other type of emergency situation\, the telecommunicator plays a vital role in the response to active shooter incidents.
URL:https://shelbycounty911.org/event/active-shooter-powerphone-copy/
LOCATION:Due to the COVID-19 virus the meeting will be held by electronic means per TCA 8-44-108\, TN
CATEGORIES:Training
ORGANIZER;CN="Sue Robinson":MAILTO:srobbins@shelbycounty911.org
END:VEVENT
BEGIN:VEVENT
DTSTART;TZID=America/Chicago:20170524T033000
DTEND;TZID=America/Chicago:20170524T113000
DTSTAMP:20260422T075959
CREATED:20161006T223759Z
LAST-MODIFIED:20161006T223759Z
UID:1416-1495596600-1495625400@shelbycounty911.org
SUMMARY:SOCIAL COMMUNICATIONS & CHANGE MANAGEMENT (Moetivations)
DESCRIPTION:Whether “tweeting” weather alerts\, “posting” community notifications\, or \n“sharing” hero moments…managing the entirety of staff social communications \nand media can seem a lot like trying to corral bees back into the nest with your \nbare hands. \nIN THIS PROGRAM: \n\nDiscuss Standards of Conduct\nUnderstand Consequences of unmanaged communications\nAnswer tough quest ions: Personal space or Professional space?\nDo you practice agency reputation management?\nWhat pictures would the media download from staff postings?\nAre you  raining all levels of your organization about creating boundaries and the role of trusted resource?\nMatch your words with your values\, character and purpose.\n\n  \nIn a world where technology\, staffing and community are ever-changing\, your managers must learn more than just \nprocesses\, policies & tactical components… they need to learn about people. \n\nMaster the human side of PSAP changes.\nInspire\, improve and align your shifts & team leaders.\nLearn how to encourage & coach supervisors & teams through difficult emotions\nTrain encouragement\, consequences\, acceptance and goal oriented communications.\n\nLET US HELP YOUR TELECOMMUNICATORS: \n\nEstablish pros and cons and define benefits to 911 processes\nWork from the top down\, from the bottom up; developing people at all levels\nCreate visions around goals and changes\nDrive accountability\nCommunicate frequently and consistently
URL:https://shelbycounty911.org/event/social-communications-change-management-moetivations/
LOCATION:Due to the COVID-19 virus the meeting will be held by electronic means per TCA 8-44-108\, TN
CATEGORIES:Training
END:VEVENT
END:VCALENDAR