BEGIN:VCALENDAR
VERSION:2.0
PRODID:-//Shelby County 911 - ECPv6.15.20//NONSGML v1.0//EN
CALSCALE:GREGORIAN
METHOD:PUBLISH
X-ORIGINAL-URL:https://shelbycounty911.org
X-WR-CALDESC:Events for Shelby County 911
REFRESH-INTERVAL;VALUE=DURATION:PT1H
X-Robots-Tag:noindex
X-PUBLISHED-TTL:PT1H
BEGIN:VTIMEZONE
TZID:America/Chicago
BEGIN:DAYLIGHT
TZOFFSETFROM:-0600
TZOFFSETTO:-0500
TZNAME:CDT
DTSTART:20160313T080000
END:DAYLIGHT
BEGIN:STANDARD
TZOFFSETFROM:-0500
TZOFFSETTO:-0600
TZNAME:CST
DTSTART:20161106T070000
END:STANDARD
BEGIN:DAYLIGHT
TZOFFSETFROM:-0600
TZOFFSETTO:-0500
TZNAME:CDT
DTSTART:20170312T080000
END:DAYLIGHT
BEGIN:STANDARD
TZOFFSETFROM:-0500
TZOFFSETTO:-0600
TZNAME:CST
DTSTART:20171105T070000
END:STANDARD
BEGIN:DAYLIGHT
TZOFFSETFROM:-0600
TZOFFSETTO:-0500
TZNAME:CDT
DTSTART:20180311T080000
END:DAYLIGHT
BEGIN:STANDARD
TZOFFSETFROM:-0500
TZOFFSETTO:-0600
TZNAME:CST
DTSTART:20181104T070000
END:STANDARD
END:VTIMEZONE
BEGIN:VEVENT
DTSTART;TZID=America/Chicago:20170428T033000
DTEND;TZID=America/Chicago:20170428T113000
DTSTAMP:20260422T105421
CREATED:20170120T034559Z
LAST-MODIFIED:20170120T034559Z
UID:1437-1493350200-1493379000@shelbycounty911.org
SUMMARY:Hostage Negotiations (The Public Safety Group)
DESCRIPTION:Hostage Negotiation \nThe FBI now recommends that communications professionals receive hostage negotiation training. Many hostage-incident contacts with law enforcement begin when the hostage taker calls 9-1-1. It is critical that the person who answers this call is trained. This class will prepare attendees to answer the call.
URL:https://shelbycounty911.org/event/hostage-negotiations-the-public-safety-group/
LOCATION:Due to the COVID-19 virus the meeting will be held by electronic means per TCA 8-44-108\, TN
CATEGORIES:Training
ORGANIZER;CN="Sue Robinson":MAILTO:srobbins@shelbycounty911.org
END:VEVENT
END:VCALENDAR