BEGIN:VCALENDAR
VERSION:2.0
PRODID:-//Shelby County 911 - ECPv6.15.20//NONSGML v1.0//EN
CALSCALE:GREGORIAN
METHOD:PUBLISH
X-ORIGINAL-URL:https://shelbycounty911.org
X-WR-CALDESC:Events for Shelby County 911
REFRESH-INTERVAL;VALUE=DURATION:PT1H
X-Robots-Tag:noindex
X-PUBLISHED-TTL:PT1H
BEGIN:VTIMEZONE
TZID:America/Chicago
BEGIN:DAYLIGHT
TZOFFSETFROM:-0600
TZOFFSETTO:-0500
TZNAME:CDT
DTSTART:20140309T080000
END:DAYLIGHT
BEGIN:STANDARD
TZOFFSETFROM:-0500
TZOFFSETTO:-0600
TZNAME:CST
DTSTART:20141102T070000
END:STANDARD
BEGIN:DAYLIGHT
TZOFFSETFROM:-0600
TZOFFSETTO:-0500
TZNAME:CDT
DTSTART:20150308T080000
END:DAYLIGHT
BEGIN:STANDARD
TZOFFSETFROM:-0500
TZOFFSETTO:-0600
TZNAME:CST
DTSTART:20151101T070000
END:STANDARD
BEGIN:DAYLIGHT
TZOFFSETFROM:-0600
TZOFFSETTO:-0500
TZNAME:CDT
DTSTART:20160313T080000
END:DAYLIGHT
BEGIN:STANDARD
TZOFFSETFROM:-0500
TZOFFSETTO:-0600
TZNAME:CST
DTSTART:20161106T070000
END:STANDARD
END:VTIMEZONE
BEGIN:VEVENT
DTSTART;TZID=America/Chicago:20151118T020000
DTEND;TZID=America/Chicago:20151118T100000
DTSTAMP:20260423T234144
CREATED:20151028T005949Z
LAST-MODIFIED:20190719T010214Z
UID:494-1447812000-1447840800@shelbycounty911.org
SUMMARY:DENISE AMBER LEE TRAGEDY
DESCRIPTION:Nathan Lee\, founder and President of the Denise Amber Lee Foundation\, and Geoff Weiss\, dispatch supervisor for the San Diego Sheriff’s Department tie together the elements of the Denise Amber Lee tragedy. A positive and uplifting presentation\, students will learn of the obvious failures that day to the more in-depth concepts such as leadership\, hiring\, training and encouraging employees in a communications center. \nThe Denise Amber Lee Foundation was launched in June 2008 as a result of the January 2008 tragic abduction and murder of Denise.  The Foundation is a non-profit initiative of Denise’s widowed husband\, Nathan\, who felt the need to honor the memory of his beloved wife.  The amazing response of the community and individuals to this senseless tragedy touched Nathan and his family so deeply that he felt compelled to return that support by helping improve the 911 system.
URL:https://shelbycounty911.org/event/denise-amber-lee-tragedy/
LOCATION:TN
CATEGORIES:Training
ATTACH;FMTTYPE=image/jpeg:https://shelbycounty911.org/wp-content/uploads/2015/10/dal1.jpg
END:VEVENT
BEGIN:VEVENT
DTSTART;TZID=America/Chicago:20151119T020000
DTEND;TZID=America/Chicago:20151119T100000
DTSTAMP:20260423T234144
CREATED:20151028T014543Z
LAST-MODIFIED:20190719T010214Z
UID:499-1447898400-1447927200@shelbycounty911.org
SUMMARY:DENISE AMBER LEE TRAGEDY
DESCRIPTION:Nathan Lee\, founder and President of the Denise Amber Lee Foundation\, and Geoff Weiss\, dispatch supervisor for the San Diego Sheriff’s Department tie together the elements of the Denise Amber Lee tragedy. A positive and uplifting presentation\, students will learn of the obvious failures that day to the more in-depth concepts such as leadership\, hiring\, training and encouraging employees in a communications center. \nThe Denise Amber Lee Foundation was launched in June 2008 as a result of the January 2008 tragic abduction and murder of Denise.  The Foundation is a non-profit initiative of Denise’s widowed husband\, Nathan\, who felt the need to honor the memory of his beloved wife.  The amazing response of the community and individuals to this senseless tragedy touched Nathan and his family so deeply that he felt compelled to return that support by helping improve the 911 system.
URL:https://shelbycounty911.org/event/denise-amber-lee-tragedy-2/
LOCATION:TN
CATEGORIES:Training
ATTACH;FMTTYPE=image/jpeg:https://shelbycounty911.org/wp-content/uploads/2015/10/dal1.jpg
END:VEVENT
END:VCALENDAR