BEGIN:VCALENDAR
VERSION:2.0
PRODID:-//Shelby County 911 - ECPv6.15.20//NONSGML v1.0//EN
CALSCALE:GREGORIAN
METHOD:PUBLISH
X-WR-CALNAME:Shelby County 911
X-ORIGINAL-URL:https://shelbycounty911.org
X-WR-CALDESC:Events for Shelby County 911
REFRESH-INTERVAL;VALUE=DURATION:PT1H
X-Robots-Tag:noindex
X-PUBLISHED-TTL:PT1H
BEGIN:VTIMEZONE
TZID:America/Chicago
BEGIN:DAYLIGHT
TZOFFSETFROM:-0600
TZOFFSETTO:-0500
TZNAME:CDT
DTSTART:20150308T080000
END:DAYLIGHT
BEGIN:STANDARD
TZOFFSETFROM:-0500
TZOFFSETTO:-0600
TZNAME:CST
DTSTART:20151101T070000
END:STANDARD
BEGIN:DAYLIGHT
TZOFFSETFROM:-0600
TZOFFSETTO:-0500
TZNAME:CDT
DTSTART:20160313T080000
END:DAYLIGHT
BEGIN:STANDARD
TZOFFSETFROM:-0500
TZOFFSETTO:-0600
TZNAME:CST
DTSTART:20161106T070000
END:STANDARD
BEGIN:DAYLIGHT
TZOFFSETFROM:-0600
TZOFFSETTO:-0500
TZNAME:CDT
DTSTART:20170312T080000
END:DAYLIGHT
BEGIN:STANDARD
TZOFFSETFROM:-0500
TZOFFSETTO:-0600
TZNAME:CST
DTSTART:20171105T070000
END:STANDARD
BEGIN:DAYLIGHT
TZOFFSETFROM:-0600
TZOFFSETTO:-0500
TZNAME:CDT
DTSTART:20180311T080000
END:DAYLIGHT
BEGIN:STANDARD
TZOFFSETFROM:-0500
TZOFFSETTO:-0600
TZNAME:CST
DTSTART:20181104T070000
END:STANDARD
BEGIN:DAYLIGHT
TZOFFSETFROM:-0600
TZOFFSETTO:-0500
TZNAME:CDT
DTSTART:20190310T080000
END:DAYLIGHT
BEGIN:STANDARD
TZOFFSETFROM:-0500
TZOFFSETTO:-0600
TZNAME:CST
DTSTART:20191103T070000
END:STANDARD
END:VTIMEZONE
BEGIN:VEVENT
DTSTART;TZID=America/Chicago:20180328T060000
DTEND;TZID=America/Chicago:20180328T073000
DTSTAMP:20260419T103332
CREATED:20180327T213234Z
LAST-MODIFIED:20180327T214614Z
UID:1552-1522216800-1522222200@shelbycounty911.org
SUMMARY:Personnel Committee Meeting
DESCRIPTION:
URL:https://shelbycounty911.org/event/personnel_committee_meeting/
LOCATION:Due to the COVID-19 virus the meeting will be held by electronic means per TCA 8-44-108\, TN
CATEGORIES:Meetings
END:VEVENT
BEGIN:VEVENT
DTSTART;TZID=America/Chicago:20180323T033000
DTEND;TZID=America/Chicago:20180323T050000
DTSTAMP:20260419T103332
CREATED:20180214T014832Z
LAST-MODIFIED:20180214T014922Z
UID:1540-1521775800-1521781200@shelbycounty911.org
SUMMARY:Executive Committee Meeting
DESCRIPTION:
URL:https://shelbycounty911.org/event/executive-committee-meeting-032318/
LOCATION:Due to the COVID-19 virus the meeting will be held by electronic means per TCA 8-44-108\, TN
CATEGORIES:Meetings
END:VEVENT
BEGIN:VEVENT
DTSTART;TZID=America/Chicago:20180201T023000
DTEND;TZID=America/Chicago:20180201T040000
DTSTAMP:20260419T103332
CREATED:20180214T005341Z
LAST-MODIFIED:20180214T005341Z
UID:1524-1517452200-1517457600@shelbycounty911.org
SUMMARY:Board Meeting
DESCRIPTION:
URL:https://shelbycounty911.org/event/board-meeting-3/
LOCATION:Due to the COVID-19 virus the meeting will be held by electronic means per TCA 8-44-108\, TN
CATEGORIES:Meetings
END:VEVENT
BEGIN:VEVENT
DTSTART;TZID=America/Chicago:20180119T023000
DTEND;TZID=America/Chicago:20180119T040000
DTSTAMP:20260419T103332
CREATED:20180214T014726Z
LAST-MODIFIED:20180214T014824Z
UID:1537-1516329000-1516334400@shelbycounty911.org
SUMMARY:Executive Committee Meeting
DESCRIPTION:
URL:https://shelbycounty911.org/event/executive-committee-meeting-011918/
CATEGORIES:Meetings
END:VEVENT
BEGIN:VEVENT
DTSTART;TZID=America/Chicago:20171207T023000
DTEND;TZID=America/Chicago:20171207T040000
DTSTAMP:20260419T103332
CREATED:20170321T181454Z
LAST-MODIFIED:20170321T181519Z
UID:1490-1512613800-1512619200@shelbycounty911.org
SUMMARY:Board Meeting
DESCRIPTION:
URL:https://shelbycounty911.org/event/board-meeting-1217/
LOCATION:Due to the COVID-19 virus the meeting will be held by electronic means per TCA 8-44-108\, TN
CATEGORIES:Meetings
END:VEVENT
BEGIN:VEVENT
DTSTART;TZID=America/Chicago:20171127T023000
DTEND;TZID=America/Chicago:20171127T040000
DTSTAMP:20260419T103332
CREATED:20170321T180239Z
LAST-MODIFIED:20170321T180649Z
UID:1475-1511749800-1511755200@shelbycounty911.org
SUMMARY:Executive Committee Meeting
DESCRIPTION:
URL:https://shelbycounty911.org/event/executive-committee-meeting-1117/
CATEGORIES:Meetings
END:VEVENT
BEGIN:VEVENT
DTSTART;TZID=America/Chicago:20171005T033000
DTEND;TZID=America/Chicago:20171005T050000
DTSTAMP:20260419T103332
CREATED:20170321T181407Z
LAST-MODIFIED:20170321T181437Z
UID:1488-1507174200-1507179600@shelbycounty911.org
SUMMARY:Board Meeting
DESCRIPTION:
URL:https://shelbycounty911.org/event/board-meeting-1017/
LOCATION:Due to the COVID-19 virus the meeting will be held by electronic means per TCA 8-44-108\, TN
CATEGORIES:Meetings
END:VEVENT
BEGIN:VEVENT
DTSTART;TZID=America/Chicago:20170922T033000
DTEND;TZID=America/Chicago:20170922T050000
DTSTAMP:20260419T103332
CREATED:20170321T180235Z
LAST-MODIFIED:20170321T180544Z
UID:1474-1506051000-1506056400@shelbycounty911.org
SUMMARY:Executive Committee Meeting
DESCRIPTION:
URL:https://shelbycounty911.org/event/executive-committee-meeting-0922/
CATEGORIES:Meetings
END:VEVENT
BEGIN:VEVENT
DTSTART;TZID=America/Chicago:20170803T033000
DTEND;TZID=America/Chicago:20170803T050000
DTSTAMP:20260419T103332
CREATED:20170321T181032Z
LAST-MODIFIED:20170321T181342Z
UID:1483-1501731000-1501736400@shelbycounty911.org
SUMMARY:Board Meeting
DESCRIPTION:
URL:https://shelbycounty911.org/event/board-meeting-0817/
LOCATION:Due to the COVID-19 virus the meeting will be held by electronic means per TCA 8-44-108\, TN
CATEGORIES:Meetings
END:VEVENT
BEGIN:VEVENT
DTSTART;TZID=America/Chicago:20170721T033000
DTEND;TZID=America/Chicago:20170721T050000
DTSTAMP:20260419T103332
CREATED:20170321T180211Z
LAST-MODIFIED:20170321T180828Z
UID:1472-1500607800-1500613200@shelbycounty911.org
SUMMARY:Executive Committee Meeting
DESCRIPTION:
URL:https://shelbycounty911.org/event/executive-committee-meeting-0717/
CATEGORIES:Meetings
END:VEVENT
BEGIN:VEVENT
DTSTART;TZID=America/Chicago:20170601T033000
DTEND;TZID=America/Chicago:20170601T050000
DTSTAMP:20260419T103332
CREATED:20170321T181026Z
LAST-MODIFIED:20170321T181143Z
UID:1482-1496287800-1496293200@shelbycounty911.org
SUMMARY:Board Meeting
DESCRIPTION:
URL:https://shelbycounty911.org/event/board-meeting-0617/
LOCATION:Due to the COVID-19 virus the meeting will be held by electronic means per TCA 8-44-108\, TN
CATEGORIES:Meetings
END:VEVENT
BEGIN:VEVENT
DTSTART;TZID=America/Chicago:20170519T033000
DTEND;TZID=America/Chicago:20170519T050000
DTSTAMP:20260419T103332
CREATED:20170321T180220Z
LAST-MODIFIED:20170321T180337Z
UID:1473-1495164600-1495170000@shelbycounty911.org
SUMMARY:Executive Committee Meeting
DESCRIPTION:
URL:https://shelbycounty911.org/event/executive-committee-meeting-5117/
CATEGORIES:Meetings
END:VEVENT
BEGIN:VEVENT
DTSTART;TZID=America/Chicago:20170406T033000
DTEND;TZID=America/Chicago:20170406T050000
DTSTAMP:20260419T103332
CREATED:20170321T180927Z
LAST-MODIFIED:20170321T181211Z
UID:1480-1491449400-1491454800@shelbycounty911.org
SUMMARY:Board Meeting
DESCRIPTION:
URL:https://shelbycounty911.org/event/board-meeting-0417/
LOCATION:Due to the COVID-19 virus the meeting will be held by electronic means per TCA 8-44-108\, TN
CATEGORIES:Meetings
END:VEVENT
BEGIN:VEVENT
DTSTART;TZID=America/Chicago:20170324T033000
DTEND;TZID=America/Chicago:20170324T050000
DTSTAMP:20260419T103332
CREATED:20170321T180112Z
LAST-MODIFIED:20170321T180156Z
UID:1470-1490326200-1490331600@shelbycounty911.org
SUMMARY:Executive Committee Meeting
DESCRIPTION:
URL:https://shelbycounty911.org/event/executive-committee-meeting-3-copy/
CATEGORIES:Meetings
END:VEVENT
BEGIN:VEVENT
DTSTART;TZID=America/Chicago:20170202T060000
DTEND;TZID=America/Chicago:20170202T080000
DTSTAMP:20260419T103332
CREATED:20170128T212127Z
LAST-MODIFIED:20170128T212505Z
UID:1467-1486015200-1486022400@shelbycounty911.org
SUMMARY:Board Meeting
DESCRIPTION:
URL:https://shelbycounty911.org/event/board-meeting-2-17/
LOCATION:Due to the COVID-19 virus the meeting will be held by electronic means per TCA 8-44-108\, TN
CATEGORIES:Meetings
END:VEVENT
BEGIN:VEVENT
DTSTART;TZID=America/Chicago:20170127T020000
DTEND;TZID=America/Chicago:20170127T040000
DTSTAMP:20260419T103332
CREATED:20170126T222017Z
LAST-MODIFIED:20170126T222017Z
UID:1464-1485482400-1485489600@shelbycounty911.org
SUMMARY:Building Committee Meeting
DESCRIPTION:PUBLIC MEETING NOTICE\nThe Shelby County 9-1-1\nDistrict Building Committee will\nmeet Friday\, January 27\, 2017\, at\n8:00 a.m. at the District Offices\,\n3150 Lenox Park\, Blvd.\, Ste. 108\,\nMemphis\, Tennessee 38115
URL:https://shelbycounty911.org/event/building-committee-meeting/
LOCATION:Due to the COVID-19 virus the meeting will be held by electronic means per TCA 8-44-108\, TN
CATEGORIES:Meetings
END:VEVENT
BEGIN:VEVENT
DTSTART;TZID=America/Chicago:20161201T023000
DTEND;TZID=America/Chicago:20161201T040000
DTSTAMP:20260419T103332
CREATED:20160617T233529Z
LAST-MODIFIED:20160908T001406Z
UID:1140-1480559400-1480564800@shelbycounty911.org
SUMMARY:Board Meeting
DESCRIPTION:
URL:https://shelbycounty911.org/event/board-meeting-2-2/
CATEGORIES:Meetings
END:VEVENT
BEGIN:VEVENT
DTSTART;TZID=America/Chicago:20161118T023000
DTEND;TZID=America/Chicago:20161118T040000
DTSTAMP:20260419T103332
CREATED:20160617T231900Z
LAST-MODIFIED:20160908T001402Z
UID:1137-1479436200-1479441600@shelbycounty911.org
SUMMARY:Executive Committee Meeting
DESCRIPTION:
URL:https://shelbycounty911.org/event/executive-committee-meeting-3/
CATEGORIES:Meetings
END:VEVENT
BEGIN:VEVENT
DTSTART;TZID=America/Chicago:20161006T033000
DTEND;TZID=America/Chicago:20161006T050000
DTSTAMP:20260419T103332
CREATED:20160617T233457Z
LAST-MODIFIED:20160908T001357Z
UID:1139-1475724600-1475730000@shelbycounty911.org
SUMMARY:Board Meeting
DESCRIPTION:
URL:https://shelbycounty911.org/event/board-meeting-2/
CATEGORIES:Meetings
END:VEVENT
BEGIN:VEVENT
DTSTART;TZID=America/Chicago:20160804T033000
DTEND;TZID=America/Chicago:20160804T050000
DTSTAMP:20260419T103332
CREATED:20160617T233408Z
LAST-MODIFIED:20160908T001352Z
UID:1138-1470281400-1470286800@shelbycounty911.org
SUMMARY:Board Meeting
DESCRIPTION:
URL:https://shelbycounty911.org/event/board-meeting/
CATEGORIES:Meetings
END:VEVENT
BEGIN:VEVENT
DTSTART;TZID=America/Chicago:20160722T030000
DTEND;TZID=America/Chicago:20160722T120000
DTSTAMP:20260419T103332
CREATED:20160617T231831Z
LAST-MODIFIED:20160908T001347Z
UID:1083-1469156400-1469188800@shelbycounty911.org
SUMMARY:Executive Committee Meeting
DESCRIPTION:
URL:https://shelbycounty911.org/event/executive-committee-meeting-2/
CATEGORIES:Meetings
END:VEVENT
END:VCALENDAR