BEGIN:VCALENDAR
VERSION:2.0
PRODID:-//Shelby County 911 - ECPv6.15.20//NONSGML v1.0//EN
CALSCALE:GREGORIAN
METHOD:PUBLISH
X-ORIGINAL-URL:https://shelbycounty911.org
X-WR-CALDESC:Events for Shelby County 911
REFRESH-INTERVAL;VALUE=DURATION:PT1H
X-Robots-Tag:noindex
X-PUBLISHED-TTL:PT1H
BEGIN:VTIMEZONE
TZID:America/Chicago
BEGIN:DAYLIGHT
TZOFFSETFROM:-0600
TZOFFSETTO:-0500
TZNAME:CDT
DTSTART:20180311T080000
END:DAYLIGHT
BEGIN:STANDARD
TZOFFSETFROM:-0500
TZOFFSETTO:-0600
TZNAME:CST
DTSTART:20181104T070000
END:STANDARD
BEGIN:DAYLIGHT
TZOFFSETFROM:-0600
TZOFFSETTO:-0500
TZNAME:CDT
DTSTART:20190310T080000
END:DAYLIGHT
BEGIN:STANDARD
TZOFFSETFROM:-0500
TZOFFSETTO:-0600
TZNAME:CST
DTSTART:20191103T070000
END:STANDARD
BEGIN:DAYLIGHT
TZOFFSETFROM:-0600
TZOFFSETTO:-0500
TZNAME:CDT
DTSTART:20200308T080000
END:DAYLIGHT
BEGIN:STANDARD
TZOFFSETFROM:-0500
TZOFFSETTO:-0600
TZNAME:CST
DTSTART:20201101T070000
END:STANDARD
BEGIN:DAYLIGHT
TZOFFSETFROM:-0600
TZOFFSETTO:-0500
TZNAME:CDT
DTSTART:20210314T080000
END:DAYLIGHT
BEGIN:STANDARD
TZOFFSETFROM:-0500
TZOFFSETTO:-0600
TZNAME:CST
DTSTART:20211107T070000
END:STANDARD
BEGIN:DAYLIGHT
TZOFFSETFROM:-0600
TZOFFSETTO:-0500
TZNAME:CDT
DTSTART:20220313T080000
END:DAYLIGHT
BEGIN:STANDARD
TZOFFSETFROM:-0500
TZOFFSETTO:-0600
TZNAME:CST
DTSTART:20221106T070000
END:STANDARD
BEGIN:DAYLIGHT
TZOFFSETFROM:-0600
TZOFFSETTO:-0500
TZNAME:CDT
DTSTART:20230312T080000
END:DAYLIGHT
BEGIN:STANDARD
TZOFFSETFROM:-0500
TZOFFSETTO:-0600
TZNAME:CST
DTSTART:20231105T070000
END:STANDARD
END:VTIMEZONE
BEGIN:VEVENT
DTSTART;TZID=America/Chicago:20220407T083000
DTEND;TZID=America/Chicago:20220407T100000
DTSTAMP:20260419T073504
CREATED:20220406T123010Z
LAST-MODIFIED:20220406T123537Z
UID:1930-1649320200-1649325600@shelbycounty911.org
SUMMARY:Board Meeting
DESCRIPTION:
URL:https://shelbycounty911.org/event/board-meeting-11-copy-copy-copy-copy-copy-copy-copy-copy-copy-copy/
LOCATION:Shelby County Emergency Communication District Office\, 3150 Lenox Park Blvd. Suite 108\, Memphis\, 38115\, United States
CATEGORIES:Meetings
ORGANIZER;CN="Sue Robinson":MAILTO:srobbins@shelbycounty911.org
END:VEVENT
BEGIN:VEVENT
DTSTART;TZID=America/Chicago:20211007T083000
DTEND;TZID=America/Chicago:20211007T100000
DTSTAMP:20260419T073504
CREATED:20210920T163346Z
LAST-MODIFIED:20210920T163742Z
UID:1904-1633595400-1633600800@shelbycounty911.org
SUMMARY:Board Meeting
DESCRIPTION:If you’d like access to the meeting please email Raymond Chiozza at: rchiozza@shelbycounty911.org
URL:https://shelbycounty911.org/event/board-meeting-11-copy-copy-copy-copy-copy-copy-copy-copy-copy/
LOCATION:Due to the COVID-19 virus the meeting will be held by electronic means per TCA 8-44-108\, TN
CATEGORIES:Meetings
ORGANIZER;CN="Raymond Chiozza":MAILTO:rchiozza@shelbycounty911.org
END:VEVENT
BEGIN:VEVENT
DTSTART;TZID=America/Chicago:20210924T083000
DTEND;TZID=America/Chicago:20210924T093000
DTSTAMP:20260419T073504
CREATED:20210920T162932Z
LAST-MODIFIED:20210922T143202Z
UID:1902-1632472200-1632475800@shelbycounty911.org
SUMMARY:Executive and Building Committee Meeting
DESCRIPTION:If you’d like access to the meeting please email Raymond Chiozza at: rchiozza@shelbycounty911.org
URL:https://shelbycounty911.org/event/executive-meeting-7-copy/
CATEGORIES:Meetings
ORGANIZER;CN="Raymond Chiozza":MAILTO:rchiozza@shelbycounty911.org
END:VEVENT
BEGIN:VEVENT
DTSTART;TZID=America/Chicago:20210805T083000
DTEND;TZID=America/Chicago:20210805T100000
DTSTAMP:20260419T073504
CREATED:20210719T201232Z
LAST-MODIFIED:20210719T194459Z
UID:1894-1628152200-1628157600@shelbycounty911.org
SUMMARY:Board Meeting
DESCRIPTION:If you’d like access to the meeting please email Raymond Chiozza at: rchiozza@shelbycounty911.org
URL:https://shelbycounty911.org/event/board-meeting-11-copy-copy-copy-copy-copy-copy-copy-copy/
LOCATION:Due to the COVID-19 virus the meeting will be held by electronic means per TCA 8-44-108\, TN
CATEGORIES:Meetings
ORGANIZER;CN="Sue Robinson":MAILTO:srobbins@shelbycounty911.org
END:VEVENT
BEGIN:VEVENT
DTSTART;TZID=America/Chicago:20210401T083000
DTEND;TZID=America/Chicago:20210401T100000
DTSTAMP:20260419T073504
CREATED:20210322T210112Z
LAST-MODIFIED:20210719T194558Z
UID:1875-1617265800-1617271200@shelbycounty911.org
SUMMARY:Board Meeting
DESCRIPTION:If you’d like access to the meeting please email Raymond Chiozza at: rchiozza@shelbycounty911.org
URL:https://shelbycounty911.org/event/board-meeting-11-copy-copy-copy-copy-copy-copy-copy/
LOCATION:Due to the COVID-19 virus the meeting will be held by electronic means per TCA 8-44-108\, TN
CATEGORIES:Meetings
ORGANIZER;CN="Sue Robinson":MAILTO:srobbins@shelbycounty911.org
END:VEVENT
BEGIN:VEVENT
DTSTART;TZID=America/Chicago:20210204T083000
DTEND;TZID=America/Chicago:20210204T100000
DTSTAMP:20260419T073504
CREATED:20200128T002010Z
LAST-MODIFIED:20210719T194620Z
UID:1728-1612427400-1612432800@shelbycounty911.org
SUMMARY:Board Meeting
DESCRIPTION:If you’d like access to the meeting please email Raymond Chiozza at: rchiozza@shelbycounty911.org
URL:https://shelbycounty911.org/event/board-meeting-11-copy-copy-copy-copy-copy-copy/
LOCATION:Due to the COVID-19 virus the meeting will be held by electronic means per TCA 8-44-108\, TN
CATEGORIES:Meetings
ORGANIZER;CN="Sue Robinson":MAILTO:srobbins@shelbycounty911.org
END:VEVENT
BEGIN:VEVENT
DTSTART;TZID=America/Chicago:20210122T023000
DTEND;TZID=America/Chicago:20210122T040000
DTSTAMP:20260419T073504
CREATED:20200128T000356Z
LAST-MODIFIED:20210121T233551Z
UID:1714-1611282600-1611288000@shelbycounty911.org
SUMMARY:Executive Meeting
DESCRIPTION:If you’d like access to the meeting please email Raymond Chiozza at: rchiozza@shelbycounty911.org
URL:https://shelbycounty911.org/event/executive-meeting-6-copy-copy-copy-copy-copy-copy/
LOCATION:Due to the COVID-19 virus the meeting will be held by electronic means per TCA 8-44-108\, TN
CATEGORIES:Meetings
ORGANIZER;CN="Sue Robinson":MAILTO:srobbins@shelbycounty911.org
END:VEVENT
BEGIN:VEVENT
DTSTART;TZID=America/Chicago:20201001T033000
DTEND;TZID=America/Chicago:20201001T050000
DTSTAMP:20260419T073504
CREATED:20200128T001943Z
LAST-MODIFIED:20200928T185433Z
UID:1726-1601523000-1601528400@shelbycounty911.org
SUMMARY:Board Meeting
DESCRIPTION:
URL:https://shelbycounty911.org/event/board-meeting-11-copy-copy-copy-copy-copy/
LOCATION:Due to the COVID-19 virus the meeting will be held by electronic means per TCA 8-44-108\, TN
CATEGORIES:Meetings
ORGANIZER;CN="Sue Robinson":MAILTO:srobbins@shelbycounty911.org
END:VEVENT
BEGIN:VEVENT
DTSTART;TZID=America/Chicago:20200918T033000
DTEND;TZID=America/Chicago:20200918T050000
DTSTAMP:20260419T073504
CREATED:20200128T000214Z
LAST-MODIFIED:20200128T000350Z
UID:1711-1600399800-1600405200@shelbycounty911.org
SUMMARY:Executive Meeting
DESCRIPTION:
URL:https://shelbycounty911.org/event/executive-meeting-6-copy-copy-copy-copy-copy/
LOCATION:Due to the COVID-19 virus the meeting will be held by electronic means per TCA 8-44-108\, TN
CATEGORIES:Meetings
ORGANIZER;CN="Sue Robinson":MAILTO:srobbins@shelbycounty911.org
END:VEVENT
BEGIN:VEVENT
DTSTART;TZID=America/Chicago:20200806T033000
DTEND;TZID=America/Chicago:20200806T050000
DTSTAMP:20260419T073504
CREATED:20200128T001850Z
LAST-MODIFIED:20200731T220137Z
UID:1723-1596684600-1596690000@shelbycounty911.org
SUMMARY:Board Meeting
DESCRIPTION:
URL:https://shelbycounty911.org/event/board-meeting-11-copy-copy-copy-copy/
LOCATION:Due to the COVID-19 virus the meeting will be held by electronic means per TCA 8-44-108\, TN
CATEGORIES:Meetings
ORGANIZER;CN="Sue Robinson":MAILTO:srobbins@shelbycounty911.org
END:VEVENT
BEGIN:VEVENT
DTSTART;TZID=America/Chicago:20200724T033000
DTEND;TZID=America/Chicago:20200724T050000
DTSTAMP:20260419T073504
CREATED:20200128T000144Z
LAST-MODIFIED:20200731T220338Z
UID:1709-1595561400-1595566800@shelbycounty911.org
SUMMARY:Executive Meeting
DESCRIPTION:
URL:https://shelbycounty911.org/event/executive-meeting-6-copy-copy-copy-copy/
LOCATION:Due to the COVID-19 virus the meeting will be held by electronic means per TCA 8-44-108\, TN
CATEGORIES:Meetings
ORGANIZER;CN="Sue Robinson":MAILTO:srobbins@shelbycounty911.org
END:VEVENT
BEGIN:VEVENT
DTSTART;TZID=America/Chicago:20200604T033000
DTEND;TZID=America/Chicago:20200604T050000
DTSTAMP:20260419T073504
CREATED:20200128T001738Z
LAST-MODIFIED:20200128T001832Z
UID:1721-1591241400-1591246800@shelbycounty911.org
SUMMARY:Board Meeting
DESCRIPTION:
URL:https://shelbycounty911.org/event/board-meeting-11-copy-copy-copy/
LOCATION:Due to the COVID-19 virus the meeting will be held by electronic means per TCA 8-44-108\, TN
CATEGORIES:Meetings
ORGANIZER;CN="Sue Robinson":MAILTO:srobbins@shelbycounty911.org
END:VEVENT
BEGIN:VEVENT
DTSTART;TZID=America/Chicago:20200522T033000
DTEND;TZID=America/Chicago:20200522T050000
DTSTAMP:20260419T073504
CREATED:20200128T000040Z
LAST-MODIFIED:20200128T000109Z
UID:1707-1590118200-1590123600@shelbycounty911.org
SUMMARY:Executive Meeting
DESCRIPTION:
URL:https://shelbycounty911.org/event/executive-meeting-6-copy-copy-copy/
LOCATION:Due to the COVID-19 virus the meeting will be held by electronic means per TCA 8-44-108\, TN
CATEGORIES:Meetings
ORGANIZER;CN="Sue Robinson":MAILTO:srobbins@shelbycounty911.org
END:VEVENT
BEGIN:VEVENT
DTSTART;TZID=America/Chicago:20200402T033000
DTEND;TZID=America/Chicago:20200402T050000
DTSTAMP:20260419T073504
CREATED:20200128T001416Z
LAST-MODIFIED:20200128T001724Z
UID:1718-1585798200-1585803600@shelbycounty911.org
SUMMARY:Board Meeting
DESCRIPTION:
URL:https://shelbycounty911.org/event/board-meeting-11-copy-copy/
LOCATION:Due to the COVID-19 virus the meeting will be held by electronic means per TCA 8-44-108\, TN
CATEGORIES:Meetings
ORGANIZER;CN="Sue Robinson":MAILTO:srobbins@shelbycounty911.org
END:VEVENT
BEGIN:VEVENT
DTSTART;TZID=America/Chicago:20200320T033000
DTEND;TZID=America/Chicago:20200320T050000
DTSTAMP:20260419T073504
CREATED:20201118T024006Z
LAST-MODIFIED:20201118T024006Z
UID:1864-1584675000-1584680400@shelbycounty911.org
SUMMARY:Executive Meeting  Copy
DESCRIPTION:
URL:https://shelbycounty911.org/event/executive-meeting-6-copy-copy-copy-2/
LOCATION:Due to the COVID-19 virus the meeting will be held by electronic means per TCA 8-44-108\, TN
CATEGORIES:Meetings
ORGANIZER;CN="Sue Robinson":MAILTO:srobbins@shelbycounty911.org
END:VEVENT
BEGIN:VEVENT
DTSTART;TZID=America/Chicago:20200320T033000
DTEND;TZID=America/Chicago:20200320T050000
DTSTAMP:20260419T073504
CREATED:20200127T235919Z
LAST-MODIFIED:20200127T235958Z
UID:1705-1584675000-1584680400@shelbycounty911.org
SUMMARY:Executive Meeting
DESCRIPTION:
URL:https://shelbycounty911.org/event/executive-meeting-6-copy-copy/
LOCATION:Due to the COVID-19 virus the meeting will be held by electronic means per TCA 8-44-108\, TN
CATEGORIES:Meetings
ORGANIZER;CN="Sue Robinson":MAILTO:srobbins@shelbycounty911.org
END:VEVENT
BEGIN:VEVENT
DTSTART;TZID=America/Chicago:20200206T023000
DTEND;TZID=America/Chicago:20200206T040000
DTSTAMP:20260419T073504
CREATED:20200128T001134Z
LAST-MODIFIED:20200128T001220Z
UID:1716-1580956200-1580961600@shelbycounty911.org
SUMMARY:Board Meeting
DESCRIPTION:
URL:https://shelbycounty911.org/event/board-meeting-11-copy/
LOCATION:Due to the COVID-19 virus the meeting will be held by electronic means per TCA 8-44-108\, TN
CATEGORIES:Meetings
ORGANIZER;CN="Sue Robinson":MAILTO:srobbins@shelbycounty911.org
END:VEVENT
BEGIN:VEVENT
DTSTART;TZID=America/Chicago:20200124T023000
DTEND;TZID=America/Chicago:20200124T040000
DTSTAMP:20260419T073504
CREATED:20200127T235700Z
LAST-MODIFIED:20200127T235829Z
UID:1702-1579833000-1579838400@shelbycounty911.org
SUMMARY:Executive Meeting
DESCRIPTION:
URL:https://shelbycounty911.org/event/executive-meeting-6-copy/
LOCATION:Due to the COVID-19 virus the meeting will be held by electronic means per TCA 8-44-108\, TN
CATEGORIES:Meetings
ORGANIZER;CN="Sue Robinson":MAILTO:srobbins@shelbycounty911.org
END:VEVENT
BEGIN:VEVENT
DTSTART;TZID=America/Chicago:20191205T023000
DTEND;TZID=America/Chicago:20191205T040000
DTSTAMP:20260419T073504
CREATED:20190107T231420Z
LAST-MODIFIED:20190719T010127Z
UID:1603-1575513000-1575518400@shelbycounty911.org
SUMMARY:Board Meeting
DESCRIPTION:
URL:https://shelbycounty911.org/event/board-meeting-12/
LOCATION:Due to the COVID-19 virus the meeting will be held by electronic means per TCA 8-44-108\, TN
CATEGORIES:Meetings
ORGANIZER;CN="Sue Robinson":MAILTO:srobbins@shelbycounty911.org
END:VEVENT
BEGIN:VEVENT
DTSTART;TZID=America/Chicago:20191122T023000
DTEND;TZID=America/Chicago:20191122T040000
DTSTAMP:20260419T073504
CREATED:20190107T230029Z
LAST-MODIFIED:20190719T010127Z
UID:1590-1574389800-1574395200@shelbycounty911.org
SUMMARY:Executive Meeting
DESCRIPTION:
URL:https://shelbycounty911.org/event/executive-meeting-6/
LOCATION:Due to the COVID-19 virus the meeting will be held by electronic means per TCA 8-44-108\, TN
CATEGORIES:Meetings
ORGANIZER;CN="Sue Robinson":MAILTO:srobbins@shelbycounty911.org
END:VEVENT
BEGIN:VEVENT
DTSTART;TZID=America/Chicago:20191026T033000
DTEND;TZID=America/Chicago:20191026T050000
DTSTAMP:20260419T073504
CREATED:20190107T231345Z
LAST-MODIFIED:20190719T010128Z
UID:1601-1572060600-1572066000@shelbycounty911.org
SUMMARY:Board Meeting
DESCRIPTION:
URL:https://shelbycounty911.org/event/board-meeting-11/
LOCATION:Due to the COVID-19 virus the meeting will be held by electronic means per TCA 8-44-108\, TN
CATEGORIES:Meetings
ORGANIZER;CN="Sue Robinson":MAILTO:srobbins@shelbycounty911.org
END:VEVENT
BEGIN:VEVENT
DTSTART;TZID=America/Chicago:20190920T033000
DTEND;TZID=America/Chicago:20190920T050000
DTSTAMP:20260419T073504
CREATED:20190107T225914Z
LAST-MODIFIED:20190719T010128Z
UID:1588-1568950200-1568955600@shelbycounty911.org
SUMMARY:Executive Meeting
DESCRIPTION:
URL:https://shelbycounty911.org/event/executive-meeting-5/
LOCATION:Due to the COVID-19 virus the meeting will be held by electronic means per TCA 8-44-108\, TN
CATEGORIES:Meetings
ORGANIZER;CN="Sue Robinson":MAILTO:srobbins@shelbycounty911.org
END:VEVENT
BEGIN:VEVENT
DTSTART;TZID=America/Chicago:20190801T033000
DTEND;TZID=America/Chicago:20190801T050000
DTSTAMP:20260419T073504
CREATED:20190107T231307Z
LAST-MODIFIED:20190719T010129Z
UID:1599-1564630200-1564635600@shelbycounty911.org
SUMMARY:Board Meeting
DESCRIPTION:
URL:https://shelbycounty911.org/event/board-meeting-10/
LOCATION:Due to the COVID-19 virus the meeting will be held by electronic means per TCA 8-44-108\, TN
CATEGORIES:Meetings
ORGANIZER;CN="Sue Robinson":MAILTO:srobbins@shelbycounty911.org
END:VEVENT
BEGIN:VEVENT
DTSTART;TZID=America/Chicago:20190719T033000
DTEND;TZID=America/Chicago:20190719T050000
DTSTAMP:20260419T073504
CREATED:20190107T225829Z
LAST-MODIFIED:20190719T010129Z
UID:1586-1563507000-1563512400@shelbycounty911.org
SUMMARY:Executive Meeting
DESCRIPTION:
URL:https://shelbycounty911.org/event/executive-meeting-4/
LOCATION:Due to the COVID-19 virus the meeting will be held by electronic means per TCA 8-44-108\, TN
CATEGORIES:Meetings
ORGANIZER;CN="Sue Robinson":MAILTO:srobbins@shelbycounty911.org
END:VEVENT
BEGIN:VEVENT
DTSTART;TZID=America/Chicago:20190606T033000
DTEND;TZID=America/Chicago:20190606T050000
DTSTAMP:20260419T073504
CREATED:20190107T231224Z
LAST-MODIFIED:20190719T010129Z
UID:1597-1559791800-1559797200@shelbycounty911.org
SUMMARY:Board Meeting
DESCRIPTION:
URL:https://shelbycounty911.org/event/board-meeting-9/
LOCATION:Due to the COVID-19 virus the meeting will be held by electronic means per TCA 8-44-108\, TN
CATEGORIES:Meetings
ORGANIZER;CN="Sue Robinson":MAILTO:srobbins@shelbycounty911.org
END:VEVENT
BEGIN:VEVENT
DTSTART;TZID=America/Chicago:20190524T033000
DTEND;TZID=America/Chicago:20190524T050000
DTSTAMP:20260419T073504
CREATED:20190107T225747Z
LAST-MODIFIED:20190719T010129Z
UID:1584-1558668600-1558674000@shelbycounty911.org
SUMMARY:Executive Meeting
DESCRIPTION:
URL:https://shelbycounty911.org/event/executive-meeting-3/
LOCATION:Due to the COVID-19 virus the meeting will be held by electronic means per TCA 8-44-108\, TN
CATEGORIES:Meetings
ORGANIZER;CN="Sue Robinson":MAILTO:srobbins@shelbycounty911.org
END:VEVENT
BEGIN:VEVENT
DTSTART;TZID=America/Chicago:20190515T033000
DTEND;TZID=America/Chicago:20190515T113000
DTSTAMP:20260419T073504
CREATED:20190107T234418Z
LAST-MODIFIED:20190429T211816Z
UID:1610-1557891000-1557919800@shelbycounty911.org
SUMMARY:911 Least Wanted (Public safety Group)  **FULL**
DESCRIPTION:An interactive daylong discussion of the problem people you will encounter while working in an emergency communications center. We cover the chronic complainer\, the terrible trainer\, and the big bad bully are all among the cast of characters that will in great detail. How does our culture support these individuals? How do cliques empower informal chains of commands? How can you fix what’s broken without becoming part of the problem? We answer these questions and more. Also included will be frank assessments of how social media\, personal electronics\, and factors such as the Me Too Movement impact personnel management.
URL:https://shelbycounty911.org/event/911-least-wanted-public-safety-group/
LOCATION:Due to the COVID-19 virus the meeting will be held by electronic means per TCA 8-44-108\, TN
CATEGORIES:Meetings,Training
ORGANIZER;CN="Sue Robinson":MAILTO:srobbins@shelbycounty911.org
END:VEVENT
BEGIN:VEVENT
DTSTART;TZID=America/Chicago:20190403T033000
DTEND;TZID=America/Chicago:20190403T050000
DTSTAMP:20260419T073504
CREATED:20190107T231140Z
LAST-MODIFIED:20190719T010129Z
UID:1595-1554262200-1554267600@shelbycounty911.org
SUMMARY:Board Meeting
DESCRIPTION:
URL:https://shelbycounty911.org/event/board-meeting-8/
LOCATION:Due to the COVID-19 virus the meeting will be held by electronic means per TCA 8-44-108\, TN
CATEGORIES:Meetings
ORGANIZER;CN="Sue Robinson":MAILTO:srobbins@shelbycounty911.org
END:VEVENT
BEGIN:VEVENT
DTSTART;TZID=America/Chicago:20190322T033000
DTEND;TZID=America/Chicago:20190322T050000
DTSTAMP:20260419T073504
CREATED:20190107T225634Z
LAST-MODIFIED:20190719T010130Z
UID:1582-1553225400-1553230800@shelbycounty911.org
SUMMARY:Executive Meeting
DESCRIPTION:
URL:https://shelbycounty911.org/event/executive-meeting-2/
LOCATION:Due to the COVID-19 virus the meeting will be held by electronic means per TCA 8-44-108\, TN
CATEGORIES:Meetings
ORGANIZER;CN="Sue Robinson":MAILTO:srobbins@shelbycounty911.org
END:VEVENT
BEGIN:VEVENT
DTSTART;TZID=America/Chicago:20190207T023000
DTEND;TZID=America/Chicago:20190207T040000
DTSTAMP:20260419T073504
CREATED:20190107T230344Z
LAST-MODIFIED:20190719T010130Z
UID:1593-1549506600-1549512000@shelbycounty911.org
SUMMARY:Board Meeting
DESCRIPTION:
URL:https://shelbycounty911.org/event/board-meeting-7/
LOCATION:Due to the COVID-19 virus the meeting will be held by electronic means per TCA 8-44-108\, TN
CATEGORIES:Meetings
ORGANIZER;CN="Sue Robinson":MAILTO:srobbins@shelbycounty911.org
END:VEVENT
END:VCALENDAR