BEGIN:VCALENDAR
VERSION:2.0
PRODID:-//Shelby County 911 - ECPv6.15.20//NONSGML v1.0//EN
CALSCALE:GREGORIAN
METHOD:PUBLISH
X-WR-CALNAME:Shelby County 911
X-ORIGINAL-URL:https://shelbycounty911.org
X-WR-CALDESC:Events for Shelby County 911
REFRESH-INTERVAL;VALUE=DURATION:PT1H
X-Robots-Tag:noindex
X-PUBLISHED-TTL:PT1H
BEGIN:VTIMEZONE
TZID:America/Chicago
BEGIN:DAYLIGHT
TZOFFSETFROM:-0600
TZOFFSETTO:-0500
TZNAME:CDT
DTSTART:20230312T080000
END:DAYLIGHT
BEGIN:STANDARD
TZOFFSETFROM:-0500
TZOFFSETTO:-0600
TZNAME:CST
DTSTART:20231105T070000
END:STANDARD
BEGIN:DAYLIGHT
TZOFFSETFROM:-0600
TZOFFSETTO:-0500
TZNAME:CDT
DTSTART:20240310T080000
END:DAYLIGHT
BEGIN:STANDARD
TZOFFSETFROM:-0500
TZOFFSETTO:-0600
TZNAME:CST
DTSTART:20241103T070000
END:STANDARD
BEGIN:DAYLIGHT
TZOFFSETFROM:-0600
TZOFFSETTO:-0500
TZNAME:CDT
DTSTART:20250309T080000
END:DAYLIGHT
BEGIN:STANDARD
TZOFFSETFROM:-0500
TZOFFSETTO:-0600
TZNAME:CST
DTSTART:20251102T070000
END:STANDARD
BEGIN:DAYLIGHT
TZOFFSETFROM:-0600
TZOFFSETTO:-0500
TZNAME:CDT
DTSTART:20260308T080000
END:DAYLIGHT
BEGIN:STANDARD
TZOFFSETFROM:-0500
TZOFFSETTO:-0600
TZNAME:CST
DTSTART:20261101T070000
END:STANDARD
BEGIN:DAYLIGHT
TZOFFSETFROM:-0600
TZOFFSETTO:-0500
TZNAME:CDT
DTSTART:20270314T080000
END:DAYLIGHT
BEGIN:STANDARD
TZOFFSETFROM:-0500
TZOFFSETTO:-0600
TZNAME:CST
DTSTART:20271107T070000
END:STANDARD
END:VTIMEZONE
BEGIN:VEVENT
DTSTART;TZID=America/Chicago:20241205T083000
DTEND;TZID=America/Chicago:20241205T100000
DTSTAMP:20260421T211234
CREATED:20240304T164951Z
LAST-MODIFIED:20240304T165014Z
UID:2085-1733387400-1733392800@shelbycounty911.org
SUMMARY:Board Meeting
DESCRIPTION:
URL:https://shelbycounty911.org/event/board-meeting-11-copy-copy-copy-copy-copy-copy-copy-copy-copy-copy-copy-copy-2-copy-2-copy-copy-copy-copy-4/
LOCATION:Shelby County Emergency Communication District Office\, 3150 Lenox Park Blvd. Suite 108\, Memphis\, 38115\, United States
CATEGORIES:Meetings
ORGANIZER;CN="Raymond Chiozza":MAILTO:rchiozza@shelbycounty911.org
END:VEVENT
BEGIN:VEVENT
DTSTART;TZID=America/Chicago:20250206T083000
DTEND;TZID=America/Chicago:20250206T100000
DTSTAMP:20260421T211234
CREATED:20250124T151732Z
LAST-MODIFIED:20250124T182306Z
UID:2129-1738830600-1738836000@shelbycounty911.org
SUMMARY:Board Meeting
DESCRIPTION:
URL:https://shelbycounty911.org/event/board-meeting-11-copy-copy-copy-copy-copy-copy-copy-copy-copy-copy-copy-copy-2-copy-2-copy-copy-copy-copy-4-copy/
LOCATION:Shelby County Emergency Communication District Office\, 3150 Lenox Park Blvd. Suite 108\, Memphis\, 38115\, United States
CATEGORIES:Meetings
ORGANIZER;CN="Raymond Chiozza":MAILTO:rchiozza@shelbycounty911.org
END:VEVENT
BEGIN:VEVENT
DTSTART;TZID=America/Chicago:20250321T083000
DTEND;TZID=America/Chicago:20250321T093000
DTSTAMP:20260421T211234
CREATED:20250124T151038Z
LAST-MODIFIED:20250124T151127Z
UID:2121-1742545800-1742549400@shelbycounty911.org
SUMMARY:Executive Meeting
DESCRIPTION:
URL:https://shelbycounty911.org/event/executive-meeting-6-copy-copy-copy-copy-2-copy-copy-copy-copy-copy-copy-5-copy-2/
LOCATION:Shelby County Emergency Communication District Office\, 3150 Lenox Park Blvd. Suite 108\, Memphis\, 38115\, United States
CATEGORIES:Meetings
ORGANIZER;CN="Raymond Chiozza":MAILTO:rchiozza@shelbycounty911.org
END:VEVENT
BEGIN:VEVENT
DTSTART;TZID=America/Chicago:20250403T083000
DTEND;TZID=America/Chicago:20250403T100000
DTSTAMP:20260421T211234
CREATED:20250124T182322Z
LAST-MODIFIED:20250124T182400Z
UID:2131-1743669000-1743674400@shelbycounty911.org
SUMMARY:Board Meeting
DESCRIPTION:
URL:https://shelbycounty911.org/event/board-meeting-11-copy-copy-copy-copy-copy-copy-copy-copy-copy-copy-copy-copy-2-copy-2-copy-copy-copy-copy-4-copy-copy/
LOCATION:Shelby County Emergency Communication District Office\, 3150 Lenox Park Blvd. Suite 108\, Memphis\, 38115\, United States
CATEGORIES:Meetings
ORGANIZER;CN="Raymond Chiozza":MAILTO:rchiozza@shelbycounty911.org
END:VEVENT
BEGIN:VEVENT
DTSTART;TZID=America/Chicago:20250523T083000
DTEND;TZID=America/Chicago:20250523T093000
DTSTAMP:20260421T211234
CREATED:20250124T150536Z
LAST-MODIFIED:20250124T151351Z
UID:2109-1747989000-1747992600@shelbycounty911.org
SUMMARY:Executive Meeting
DESCRIPTION:
URL:https://shelbycounty911.org/event/executive-meeting-6-copy-copy-copy-copy-2-copy-copy-copy-copy-copy-copy-5-copy/
LOCATION:Shelby County Emergency Communication District Office\, 3150 Lenox Park Blvd. Suite 108\, Memphis\, 38115\, United States
CATEGORIES:Meetings
ORGANIZER;CN="Raymond Chiozza":MAILTO:rchiozza@shelbycounty911.org
END:VEVENT
BEGIN:VEVENT
DTSTART;TZID=America/Chicago:20250605T083000
DTEND;TZID=America/Chicago:20250605T100000
DTSTAMP:20260421T211234
CREATED:20250124T182416Z
LAST-MODIFIED:20250124T182438Z
UID:2133-1749112200-1749117600@shelbycounty911.org
SUMMARY:Board Meeting
DESCRIPTION:
URL:https://shelbycounty911.org/event/board-meeting-11-copy-copy-copy-copy-copy-copy-copy-copy-copy-copy-copy-copy-2-copy-2-copy-copy-copy-copy-4-copy-copy-copy/
LOCATION:Shelby County Emergency Communication District Office\, 3150 Lenox Park Blvd. Suite 108\, Memphis\, 38115\, United States
CATEGORIES:Meetings
ORGANIZER;CN="Raymond Chiozza":MAILTO:rchiozza@shelbycounty911.org
END:VEVENT
BEGIN:VEVENT
DTSTART;TZID=America/Chicago:20250725T083000
DTEND;TZID=America/Chicago:20250725T093000
DTSTAMP:20260421T211234
CREATED:20250124T151420Z
LAST-MODIFIED:20250124T151511Z
UID:2123-1753432200-1753435800@shelbycounty911.org
SUMMARY:Executive Meeting
DESCRIPTION:
URL:https://shelbycounty911.org/event/executive-meeting-6-copy-copy-copy-copy-2-copy-copy-copy-copy-copy-copy-5-copy-3/
LOCATION:Shelby County Emergency Communication District Office\, 3150 Lenox Park Blvd. Suite 108\, Memphis\, 38115\, United States
CATEGORIES:Meetings
ORGANIZER;CN="Raymond Chiozza":MAILTO:rchiozza@shelbycounty911.org
END:VEVENT
BEGIN:VEVENT
DTSTART;TZID=America/Chicago:20250807T083000
DTEND;TZID=America/Chicago:20250807T100000
DTSTAMP:20260421T211234
CREATED:20250124T182450Z
LAST-MODIFIED:20250124T182508Z
UID:2135-1754555400-1754560800@shelbycounty911.org
SUMMARY:Board Meeting
DESCRIPTION:
URL:https://shelbycounty911.org/event/board-meeting-11-copy-copy-copy-copy-copy-copy-copy-copy-copy-copy-copy-copy-2-copy-2-copy-copy-copy-copy-4-copy-copy-copy-copy/
LOCATION:Shelby County Emergency Communication District Office\, 3150 Lenox Park Blvd. Suite 108\, Memphis\, 38115\, United States
CATEGORIES:Meetings
ORGANIZER;CN="Raymond Chiozza":MAILTO:rchiozza@shelbycounty911.org
END:VEVENT
BEGIN:VEVENT
DTSTART;TZID=America/Chicago:20250923T083000
DTEND;TZID=America/Chicago:20250923T093000
DTSTAMP:20260421T211234
CREATED:20250124T151523Z
LAST-MODIFIED:20250919T190512Z
UID:2125-1758616200-1758619800@shelbycounty911.org
SUMMARY:Executive Meeting
DESCRIPTION:
URL:https://shelbycounty911.org/event/executive-meeting-6-copy-copy-copy-copy-2-copy-copy-copy-copy-copy-copy-5-copy-4/
LOCATION:Shelby County Emergency Communication District Office\, 3150 Lenox Park Blvd. Suite 108\, Memphis\, 38115\, United States
CATEGORIES:Meetings
ORGANIZER;CN="Raymond Chiozza":MAILTO:rchiozza@shelbycounty911.org
END:VEVENT
BEGIN:VEVENT
DTSTART;TZID=America/Chicago:20251009T083000
DTEND;TZID=America/Chicago:20251009T100000
DTSTAMP:20260421T211234
CREATED:20250124T182517Z
LAST-MODIFIED:20250919T190548Z
UID:2137-1759998600-1760004000@shelbycounty911.org
SUMMARY:Board Meeting
DESCRIPTION:
URL:https://shelbycounty911.org/event/board-meeting-11-copy-copy-copy-copy-copy-copy-copy-copy-copy-copy-copy-copy-2-copy-2-copy-copy-copy-copy-4-copy-copy-copy-copy-copy/
LOCATION:Shelby County Emergency Communication District Office\, 3150 Lenox Park Blvd. Suite 108\, Memphis\, 38115\, United States
CATEGORIES:Meetings
ORGANIZER;CN="Raymond Chiozza":MAILTO:rchiozza@shelbycounty911.org
END:VEVENT
BEGIN:VEVENT
DTSTART;TZID=America/Chicago:20251121T083000
DTEND;TZID=America/Chicago:20251121T093000
DTSTAMP:20260421T211234
CREATED:20250124T151615Z
LAST-MODIFIED:20250124T151634Z
UID:2127-1763713800-1763717400@shelbycounty911.org
SUMMARY:Executive Meeting
DESCRIPTION:
URL:https://shelbycounty911.org/event/executive-meeting-6-copy-copy-copy-copy-2-copy-copy-copy-copy-copy-copy-5-copy-4-copy/
LOCATION:Shelby County Emergency Communication District Office\, 3150 Lenox Park Blvd. Suite 108\, Memphis\, 38115\, United States
CATEGORIES:Meetings
ORGANIZER;CN="Raymond Chiozza":MAILTO:rchiozza@shelbycounty911.org
END:VEVENT
BEGIN:VEVENT
DTSTART;TZID=America/Chicago:20251204T083000
DTEND;TZID=America/Chicago:20251204T100000
DTSTAMP:20260421T211234
CREATED:20250124T182550Z
LAST-MODIFIED:20250124T182605Z
UID:2139-1764837000-1764842400@shelbycounty911.org
SUMMARY:Board Meeting
DESCRIPTION:
URL:https://shelbycounty911.org/event/board-meeting-11-copy-copy-copy-copy-copy-copy-copy-copy-copy-copy-copy-copy-2-copy-2-copy-copy-copy-copy-4-copy-copy-copy-copy-copy-copy/
LOCATION:Shelby County Emergency Communication District Office\, 3150 Lenox Park Blvd. Suite 108\, Memphis\, 38115\, United States
CATEGORIES:Meetings
ORGANIZER;CN="Raymond Chiozza":MAILTO:rchiozza@shelbycounty911.org
END:VEVENT
BEGIN:VEVENT
DTSTART;TZID=America/Chicago:20260123T083000
DTEND;TZID=America/Chicago:20260123T093000
DTSTAMP:20260421T211234
CREATED:20251205T164042Z
LAST-MODIFIED:20251205T164115Z
UID:2280-1769157000-1769160600@shelbycounty911.org
SUMMARY:Executive Meeting
DESCRIPTION:
URL:https://shelbycounty911.org/event/executive-meeting-6-copy-copy-copy-copy-2-copy-copy-copy-copy-copy-copy-5-copy-4-copy-copy/
LOCATION:Shelby County Emergency Communication District Office\, 3150 Lenox Park Blvd. Suite 108\, Memphis\, 38115\, United States
CATEGORIES:Meetings
ORGANIZER;CN="Raymond Chiozza":MAILTO:rchiozza@shelbycounty911.org
END:VEVENT
BEGIN:VEVENT
DTSTART;TZID=America/Chicago:20260205T083000
DTEND;TZID=America/Chicago:20260205T100000
DTSTAMP:20260421T211234
CREATED:20251205T163224Z
LAST-MODIFIED:20251205T163516Z
UID:2266-1770280200-1770285600@shelbycounty911.org
SUMMARY:Board Meeting
DESCRIPTION:
URL:https://shelbycounty911.org/event/board-meeting-11-copy-copy-copy-copy-copy-copy-copy-copy-copy-copy-copy-copy-2-copy-2-copy-copy-copy-copy-4-copy-copy-copy-copy-copy-copy-copy/
LOCATION:Shelby County Emergency Communication District Office\, 3150 Lenox Park Blvd. Suite 108\, Memphis\, 38115\, United States
CATEGORIES:Meetings
ORGANIZER;CN="Raymond Chiozza":MAILTO:rchiozza@shelbycounty911.org
END:VEVENT
BEGIN:VEVENT
DTSTART;TZID=America/Chicago:20260324T120000
DTEND;TZID=America/Chicago:20260324T130000
DTSTAMP:20260421T211234
CREATED:20251205T164127Z
LAST-MODIFIED:20260317T112917Z
UID:2282-1774353600-1774357200@shelbycounty911.org
SUMMARY:Executive Meeting
DESCRIPTION:
URL:https://shelbycounty911.org/event/executive-meeting-6-copy-copy-copy-copy-2-copy-copy-copy-copy-copy-copy-5-copy-4-copy-copy-copy/
LOCATION:Shelby County Emergency Communication District Office\, 3150 Lenox Park Blvd. Suite 108\, Memphis\, 38115\, United States
CATEGORIES:Meetings
ORGANIZER;CN="Raymond Chiozza":MAILTO:rchiozza@shelbycounty911.org
END:VEVENT
BEGIN:VEVENT
DTSTART;TZID=America/Chicago:20260402T083000
DTEND;TZID=America/Chicago:20260402T100000
DTSTAMP:20260421T211234
CREATED:20251205T163600Z
LAST-MODIFIED:20251205T163652Z
UID:2269-1775118600-1775124000@shelbycounty911.org
SUMMARY:Board Meeting
DESCRIPTION:
URL:https://shelbycounty911.org/event/board-meeting-11-copy-copy-copy-copy-copy-copy-copy-copy-copy-copy-copy-copy-2-copy-2-copy-copy-copy-copy-4-copy-copy-copy-copy-copy-copy-copy-copy-copy/
LOCATION:Shelby County Emergency Communication District Office\, 3150 Lenox Park Blvd. Suite 108\, Memphis\, 38115\, United States
CATEGORIES:Meetings
ORGANIZER;CN="Raymond Chiozza":MAILTO:rchiozza@shelbycounty911.org
END:VEVENT
BEGIN:VEVENT
DTSTART;TZID=America/Chicago:20260526T083000
DTEND;TZID=America/Chicago:20260526T093000
DTSTAMP:20260421T211234
CREATED:20251205T164211Z
LAST-MODIFIED:20260420T113947Z
UID:2284-1779784200-1779787800@shelbycounty911.org
SUMMARY:Executive Meeting
DESCRIPTION:
URL:https://shelbycounty911.org/event/executive-meeting-6-copy-copy-copy-copy-2-copy-copy-copy-copy-copy-copy-5-copy-4-copy-copy-copy-copy/
LOCATION:Shelby County Emergency Communication District Office\, 3150 Lenox Park Blvd. Suite 108\, Memphis\, 38115\, United States
CATEGORIES:Meetings
ORGANIZER;CN="Raymond Chiozza":MAILTO:rchiozza@shelbycounty911.org
END:VEVENT
BEGIN:VEVENT
DTSTART;TZID=America/Chicago:20260604T083000
DTEND;TZID=America/Chicago:20260604T100000
DTSTAMP:20260421T211234
CREATED:20251205T163712Z
LAST-MODIFIED:20251205T163743Z
UID:2272-1780561800-1780567200@shelbycounty911.org
SUMMARY:Board Meeting
DESCRIPTION:
URL:https://shelbycounty911.org/event/board-meeting-11-copy-copy-copy-copy-copy-copy-copy-copy-copy-copy-copy-copy-2-copy-2-copy-copy-copy-copy-4-copy-copy-copy-copy-copy-copy-copy-copy-copy-copy/
LOCATION:Shelby County Emergency Communication District Office\, 3150 Lenox Park Blvd. Suite 108\, Memphis\, 38115\, United States
CATEGORIES:Meetings
ORGANIZER;CN="Raymond Chiozza":MAILTO:rchiozza@shelbycounty911.org
END:VEVENT
BEGIN:VEVENT
DTSTART;TZID=America/Chicago:20260730T083000
DTEND;TZID=America/Chicago:20260730T093000
DTSTAMP:20260421T211234
CREATED:20251205T164243Z
LAST-MODIFIED:20251205T164312Z
UID:2286-1785400200-1785403800@shelbycounty911.org
SUMMARY:Executive Meeting
DESCRIPTION:
URL:https://shelbycounty911.org/event/executive-meeting-6-copy-copy-copy-copy-2-copy-copy-copy-copy-copy-copy-5-copy-4-copy-copy-copy-copy-copy/
LOCATION:Shelby County Emergency Communication District Office\, 3150 Lenox Park Blvd. Suite 108\, Memphis\, 38115\, United States
CATEGORIES:Meetings
ORGANIZER;CN="Raymond Chiozza":MAILTO:rchiozza@shelbycounty911.org
END:VEVENT
BEGIN:VEVENT
DTSTART;TZID=America/Chicago:20260813T083000
DTEND;TZID=America/Chicago:20260813T100000
DTSTAMP:20260421T211234
CREATED:20251205T163805Z
LAST-MODIFIED:20251205T163833Z
UID:2274-1786609800-1786615200@shelbycounty911.org
SUMMARY:Board Meeting
DESCRIPTION:
URL:https://shelbycounty911.org/event/board-meeting-11-copy-copy-copy-copy-copy-copy-copy-copy-copy-copy-copy-copy-2-copy-2-copy-copy-copy-copy-4-copy-copy-copy-copy-copy-copy-copy-copy-copy-copy-copy/
LOCATION:Shelby County Emergency Communication District Office\, 3150 Lenox Park Blvd. Suite 108\, Memphis\, 38115\, United States
CATEGORIES:Meetings
ORGANIZER;CN="Raymond Chiozza":MAILTO:rchiozza@shelbycounty911.org
END:VEVENT
BEGIN:VEVENT
DTSTART;TZID=America/Chicago:20260918T083000
DTEND;TZID=America/Chicago:20260918T093000
DTSTAMP:20260421T211234
CREATED:20251205T164511Z
LAST-MODIFIED:20251205T164535Z
UID:2290-1789720200-1789723800@shelbycounty911.org
SUMMARY:Executive Meeting
DESCRIPTION:
URL:https://shelbycounty911.org/event/executive-meeting-6-copy-copy-copy-copy-2-copy-copy-copy-copy-copy-copy-5-copy-4-copy-copy-copy-copy-copy-copy-copy/
LOCATION:Shelby County Emergency Communication District Office\, 3150 Lenox Park Blvd. Suite 108\, Memphis\, 38115\, United States
CATEGORIES:Meetings
ORGANIZER;CN="Raymond Chiozza":MAILTO:rchiozza@shelbycounty911.org
END:VEVENT
BEGIN:VEVENT
DTSTART;TZID=America/Chicago:20261001T083000
DTEND;TZID=America/Chicago:20261001T100000
DTSTAMP:20260421T211234
CREATED:20251205T163841Z
LAST-MODIFIED:20251205T163902Z
UID:2276-1790843400-1790848800@shelbycounty911.org
SUMMARY:Board Meeting
DESCRIPTION:
URL:https://shelbycounty911.org/event/board-meeting-11-copy-copy-copy-copy-copy-copy-copy-copy-copy-copy-copy-copy-2-copy-2-copy-copy-copy-copy-4-copy-copy-copy-copy-copy-copy-copy-copy-copy-copy-copy-copy/
LOCATION:Shelby County Emergency Communication District Office\, 3150 Lenox Park Blvd. Suite 108\, Memphis\, 38115\, United States
CATEGORIES:Meetings
ORGANIZER;CN="Raymond Chiozza":MAILTO:rchiozza@shelbycounty911.org
END:VEVENT
BEGIN:VEVENT
DTSTART;TZID=America/Chicago:20261120T083000
DTEND;TZID=America/Chicago:20261120T093000
DTSTAMP:20260421T211234
CREATED:20251205T164322Z
LAST-MODIFIED:20251205T164411Z
UID:2288-1795163400-1795167000@shelbycounty911.org
SUMMARY:Executive Meeting
DESCRIPTION:
URL:https://shelbycounty911.org/event/executive-meeting-6-copy-copy-copy-copy-2-copy-copy-copy-copy-copy-copy-5-copy-4-copy-copy-copy-copy-copy-copy/
LOCATION:Shelby County Emergency Communication District Office\, 3150 Lenox Park Blvd. Suite 108\, Memphis\, 38115\, United States
CATEGORIES:Meetings
ORGANIZER;CN="Raymond Chiozza":MAILTO:rchiozza@shelbycounty911.org
END:VEVENT
BEGIN:VEVENT
DTSTART;TZID=America/Chicago:20261203T083000
DTEND;TZID=America/Chicago:20261203T100000
DTSTAMP:20260421T211234
CREATED:20251205T163915Z
LAST-MODIFIED:20251205T163947Z
UID:2278-1796286600-1796292000@shelbycounty911.org
SUMMARY:Board Meeting
DESCRIPTION:
URL:https://shelbycounty911.org/event/board-meeting-11-copy-copy-copy-copy-copy-copy-copy-copy-copy-copy-copy-copy-2-copy-2-copy-copy-copy-copy-4-copy-copy-copy-copy-copy-copy-copy-copy-copy-copy-copy-copy-copy/
LOCATION:Shelby County Emergency Communication District Office\, 3150 Lenox Park Blvd. Suite 108\, Memphis\, 38115\, United States
CATEGORIES:Meetings
ORGANIZER;CN="Raymond Chiozza":MAILTO:rchiozza@shelbycounty911.org
END:VEVENT
END:VCALENDAR